BEGIN:VCALENDAR
VERSION:2.0
PRODID:-//Nillumbik Reconciliation Group - ECPv6.15.20//NONSGML v1.0//EN
CALSCALE:GREGORIAN
METHOD:PUBLISH
X-WR-CALNAME:Nillumbik Reconciliation Group
X-ORIGINAL-URL:https://www.nrg.org.au
X-WR-CALDESC:Events for Nillumbik Reconciliation Group
REFRESH-INTERVAL;VALUE=DURATION:PT1H
X-Robots-Tag:noindex
X-PUBLISHED-TTL:PT1H
BEGIN:VTIMEZONE
TZID:Australia/Melbourne
BEGIN:STANDARD
TZOFFSETFROM:+1100
TZOFFSETTO:+1000
TZNAME:AEST
DTSTART:20240406T160000
END:STANDARD
BEGIN:DAYLIGHT
TZOFFSETFROM:+1000
TZOFFSETTO:+1100
TZNAME:AEDT
DTSTART:20241005T160000
END:DAYLIGHT
BEGIN:STANDARD
TZOFFSETFROM:+1100
TZOFFSETTO:+1000
TZNAME:AEST
DTSTART:20250405T160000
END:STANDARD
BEGIN:DAYLIGHT
TZOFFSETFROM:+1000
TZOFFSETTO:+1100
TZNAME:AEDT
DTSTART:20251004T160000
END:DAYLIGHT
BEGIN:STANDARD
TZOFFSETFROM:+1100
TZOFFSETTO:+1000
TZNAME:AEST
DTSTART:20260404T160000
END:STANDARD
BEGIN:DAYLIGHT
TZOFFSETFROM:+1000
TZOFFSETTO:+1100
TZNAME:AEDT
DTSTART:20261003T160000
END:DAYLIGHT
END:VTIMEZONE
BEGIN:VEVENT
DTSTART;TZID=Australia/Melbourne:20251118T190000
DTEND;TZID=Australia/Melbourne:20251118T210000
DTSTAMP:20260421T210427
CREATED:20251104T115601Z
LAST-MODIFIED:20251104T115956Z
UID:3935-1763492400-1763499600@www.nrg.org.au
SUMMARY:2025 Annual General Meeting & Guest Speaker: Catherine Guinness
DESCRIPTION:Date: Tuesday 18 November 2025Time: 7.00 – 9.00 pmLocation: Allwood House\, 901 Main Road\, Hurstbridge \nJoin the Nillumbik Reconciliation Group Inc. for our 2025 Annual General Meeting. We’re looking for more active members to be part of the year ahead—help shape our projects\, partnerships\, and community work for reconciliation in Nillumbik. \nThe evening will include the Election of Office Bearers\, followed by Yarns and Supper after the official meeting. \nRSVP below to help us anticipate catering for the supper. \n\nGuest Speaker: Catherine Guinness\nCatherine Guinness will share stories from Beyond the Meeting of the Waters: A Yorta Yorta Life Story\, co-authored with her partner Wayne Atkinson\, a Yorta Yorta Elder. \nBooks will be available for cash sale ($45) on the night. \nWe warmly invite all members and friends of reconciliation to attend and connect with our local community. \nLearn more about the book \n  \n  \n\n 
URL:https://www.nrg.org.au/event/2025-annual-general-meeting-guest-speaker-catherine-guinness/
LOCATION:Allwood Neighbourhood House\, 901 Main Road\, Hurstbridge\, Victoria\, 3099\, Australia
CATEGORIES:Annual General Meetings
ATTACH;FMTTYPE=image/jpeg:https://www.nrg.org.au/wp-content/uploads/2025/11/images.jpg
ORGANIZER;CN="Nillumbik Reconciliation Group":MAILTO:info@nrg.org.au
END:VEVENT
END:VCALENDAR