BEGIN:VCALENDAR
VERSION:2.0
PRODID:-//Nillumbik Reconciliation Group - ECPv6.15.20//NONSGML v1.0//EN
CALSCALE:GREGORIAN
METHOD:PUBLISH
X-ORIGINAL-URL:https://www.nrg.org.au
X-WR-CALDESC:Events for Nillumbik Reconciliation Group
REFRESH-INTERVAL;VALUE=DURATION:PT1H
X-Robots-Tag:noindex
X-PUBLISHED-TTL:PT1H
BEGIN:VTIMEZONE
TZID:Australia/Melbourne
BEGIN:STANDARD
TZOFFSETFROM:+1100
TZOFFSETTO:+1000
TZNAME:AEST
DTSTART:20230401T160000
END:STANDARD
BEGIN:DAYLIGHT
TZOFFSETFROM:+1000
TZOFFSETTO:+1100
TZNAME:AEDT
DTSTART:20230930T160000
END:DAYLIGHT
BEGIN:STANDARD
TZOFFSETFROM:+1100
TZOFFSETTO:+1000
TZNAME:AEST
DTSTART:20240406T160000
END:STANDARD
BEGIN:DAYLIGHT
TZOFFSETFROM:+1000
TZOFFSETTO:+1100
TZNAME:AEDT
DTSTART:20241005T160000
END:DAYLIGHT
BEGIN:STANDARD
TZOFFSETFROM:+1100
TZOFFSETTO:+1000
TZNAME:AEST
DTSTART:20250405T160000
END:STANDARD
BEGIN:DAYLIGHT
TZOFFSETFROM:+1000
TZOFFSETTO:+1100
TZNAME:AEDT
DTSTART:20251004T160000
END:DAYLIGHT
END:VTIMEZONE
BEGIN:VEVENT
DTSTART;TZID=Australia/Melbourne:20240714T110000
DTEND;TZID=Australia/Melbourne:20240714T123000
DTSTAMP:20260420T033115
CREATED:20240622T132806Z
LAST-MODIFIED:20240709T233759Z
UID:2377-1720954800-1720960200@www.nrg.org.au
SUMMARY:NAIDOC Week: Dreamtime Rhythms
DESCRIPTION:Celebrate the vibrancy of Aboriginal culture with traditional dance\, Didgeridoo melodies\, storytelling\, and artefacts. \nThis event offers a profound journey into Indigenous heritage\, honouring its beauty\, diversity\, and enduring spirit.
URL:https://www.nrg.org.au/event/naidoc-week-dreamtime-rhythms/
LOCATION:Eltham Library\, Panther Place\, Eltham\, Victoria\, 3095\, Australia
CATEGORIES:NAIDOC
ATTACH;FMTTYPE=image/png:https://www.nrg.org.au/wp-content/uploads/2024/06/naidoc_dreamtimerhymes2024.png
ORGANIZER;CN="Yarra Plenty Regional Library Service":MAILTO:ypmail@yprl.vic.gov.au
END:VEVENT
BEGIN:VEVENT
DTSTART;TZID=Australia/Melbourne:20240712T103000
DTEND;TZID=Australia/Melbourne:20240712T113000
DTSTAMP:20260420T033115
CREATED:20240622T132652Z
LAST-MODIFIED:20240709T233745Z
UID:2374-1720780200-1720783800@www.nrg.org.au
SUMMARY:NAIDOC Week: Deadly Stories and Craft
DESCRIPTION:Celebrate First Nations language\, culture and community through storytelling\, dance and song. \nIn Eltham Library’s NAIDOC Week (naidoc.org.au) Deadly Stories hear from and learn about First Nations picture books that families can enjoy reading together. \nStories will be followed by a fun and creative First Nations inspired craft activity.
URL:https://www.nrg.org.au/event/naidoc-week-deadly-stories-and-craft/
LOCATION:Eltham Library\, Panther Place\, Eltham\, Victoria\, 3095\, Australia
CATEGORIES:NAIDOC
ATTACH;FMTTYPE=image/png:https://www.nrg.org.au/wp-content/uploads/2024/06/naidocdeadlystories2024.png
ORGANIZER;CN="Yarra Plenty Regional Library Service":MAILTO:ypmail@yprl.vic.gov.au
END:VEVENT
BEGIN:VEVENT
DTSTART;TZID=Australia/Melbourne:20240711T190000
DTEND;TZID=Australia/Melbourne:20240711T200000
DTSTAMP:20260420T033115
CREATED:20240701T130048Z
LAST-MODIFIED:20240709T233729Z
UID:2735-1720724400-1720728000@www.nrg.org.au
SUMMARY:NAIDOC Week: Author Talk - Astronomy: Sky Country
DESCRIPTION:Join Krystal De Napoli for a discussion of her book in the First Knowledges series Astronomy: Sky Country\, co-authored with Karlie Noon. \nAstronomy: Sky Country explores the connections between Aboriginal environmental and cultural practices and the behaviour of the stars. Learn how sophisticated astronomical expertise embedded within the Dreaming and Songlines is interwoven into a deep understanding of changes on the land. \nKrystal De Napoli is a Kamilaroi educator and aspiring astrophysicist devoted to the advocacy of Indigenous knowledges and equity in STEM. She is researching star formation rates in galaxies. In 2018 Krystal became the first non-Genomicist to be awarded the Illumina Women in Genomics bracelet\, and she has curated a national public database on Indigenous science for the Australian Council of Deans of Science. \nEntry is free but registration is required.
URL:https://www.nrg.org.au/event/naidoc-week-author-talk-astronomy-sky-country/
LOCATION:Watsonia Library\, 4-6 Ibbottson Street\, Watsonia\, Victoria\, 3087\, Australia
CATEGORIES:Author Events,NAIDOC
ATTACH;FMTTYPE=image/jpeg:https://www.nrg.org.au/wp-content/uploads/2024/07/skycountry.jpg
ORGANIZER;CN="Yarra Plenty Regional Library Service":MAILTO:ypmail@yprl.vic.gov.au
END:VEVENT
BEGIN:VEVENT
DTSTART;TZID=Australia/Melbourne:20240706T193000
DTEND;TZID=Australia/Melbourne:20240706T220000
DTSTAMP:20260420T033115
CREATED:20240709T071039Z
LAST-MODIFIED:20240709T071039Z
UID:2802-1720294200-1720303200@www.nrg.org.au
SUMMARY:National NAIDOC Awards Ceremony 2024
DESCRIPTION:Join us for the prestigious National NAIDOC Awards Ceremony 2024\, celebrating the outstanding achievements of Aboriginal and Torres Strait Islander peoples. This event acknowledges the extraordinary contributions of Indigenous Australians across various fields\, including art\, education\, and community service. \nAs the Official Broadcast and Education Partner for NAIDOC week\, the ABC will telecast the NAIDOC Awards on Saturday night hosted by Total Control star Rob Collins\, 10 News First presenter Narelda Jacobs\, and comedian Steph Tisdell.  MTV and ARIA award-winning musician Jess Mauboy will headline the night’s entertainment and the ceremony will be streamed on ABC iview and simulcast on NITV. \nYou can watch the full ceremony on ABC iView. \nFor more details about the event\, see the Awards Ceremony page on the NAIDOC website. \nDon’t miss this inspiring celebration of culture\, history\, and achievement!
URL:https://www.nrg.org.au/event/national-naidoc-awards-ceremony-2024/
LOCATION:ABC iView
CATEGORIES:NAIDOC,National
ATTACH;FMTTYPE=image/jpeg:https://www.nrg.org.au/wp-content/uploads/2024/07/NAIDOC-awards-2024.jpeg
END:VEVENT
END:VCALENDAR