BEGIN:VCALENDAR
VERSION:2.0
PRODID:-//Nillumbik Reconciliation Group - ECPv6.15.20//NONSGML v1.0//EN
CALSCALE:GREGORIAN
METHOD:PUBLISH
X-WR-CALNAME:Nillumbik Reconciliation Group
X-ORIGINAL-URL:https://www.nrg.org.au
X-WR-CALDESC:Events for Nillumbik Reconciliation Group
REFRESH-INTERVAL;VALUE=DURATION:PT1H
X-Robots-Tag:noindex
X-PUBLISHED-TTL:PT1H
BEGIN:VTIMEZONE
TZID:Australia/Melbourne
BEGIN:STANDARD
TZOFFSETFROM:+1100
TZOFFSETTO:+1000
TZNAME:AEST
DTSTART:20230401T160000
END:STANDARD
BEGIN:DAYLIGHT
TZOFFSETFROM:+1000
TZOFFSETTO:+1100
TZNAME:AEDT
DTSTART:20230930T160000
END:DAYLIGHT
BEGIN:STANDARD
TZOFFSETFROM:+1100
TZOFFSETTO:+1000
TZNAME:AEST
DTSTART:20240406T160000
END:STANDARD
BEGIN:DAYLIGHT
TZOFFSETFROM:+1000
TZOFFSETTO:+1100
TZNAME:AEDT
DTSTART:20241005T160000
END:DAYLIGHT
BEGIN:STANDARD
TZOFFSETFROM:+1100
TZOFFSETTO:+1000
TZNAME:AEST
DTSTART:20250405T160000
END:STANDARD
BEGIN:DAYLIGHT
TZOFFSETFROM:+1000
TZOFFSETTO:+1100
TZNAME:AEDT
DTSTART:20251004T160000
END:DAYLIGHT
BEGIN:STANDARD
TZOFFSETFROM:+1100
TZOFFSETTO:+1000
TZNAME:AEST
DTSTART:20260404T160000
END:STANDARD
BEGIN:DAYLIGHT
TZOFFSETFROM:+1000
TZOFFSETTO:+1100
TZNAME:AEDT
DTSTART:20261003T160000
END:DAYLIGHT
BEGIN:STANDARD
TZOFFSETFROM:+1100
TZOFFSETTO:+1000
TZNAME:AEST
DTSTART:20270403T160000
END:STANDARD
BEGIN:DAYLIGHT
TZOFFSETFROM:+1000
TZOFFSETTO:+1100
TZNAME:AEDT
DTSTART:20271002T160000
END:DAYLIGHT
END:VTIMEZONE
BEGIN:VEVENT
DTSTART;VALUE=DATE:20260227
DTEND;VALUE=DATE:20260301
DTSTAMP:20260419T233144
CREATED:20260207T114815Z
LAST-MODIFIED:20260207T114817Z
UID:4400-1772150400-1772323199@www.nrg.org.au
SUMMARY:Bundjil Nest Conference 2026
DESCRIPTION:Friday 27 February – Saturday 28 February 2026 (all day; attend one or both days)\nLocation: Civic Reserve and Balnarring Preschool\, Civic Court\, Balnarring VIC 3926\nCost: Ticketed – see booking link\nCapacity: Until tickets sell out \nNillumbik Reconciliation Group members may be interested in attending the Bundjil Nest Conference 2026\, a two-day outdoor gathering dedicated to reconciliation in action — a time to connect\, celebrate\, listen and learn. The conference is hosted by the Bundjil Nest Project\, a collaboration of educators and learning communities that began in 2014 at Balnarring Preschool and local schools\, grounded in a shared commitment to respectfully embedding First Peoples perspectives in education. \nOver more than a decade\, the Bundjil Nest Project has grown from educators recognising their responsibility to learn and engage more deeply with First Nations knowledge\, to a sustained\, community-led effort involving professional learning\, cultural workshops\, and ongoing partnerships with First Nations educators\, artists\, and Elders. This work reflects an understanding that First Peoples histories and ways of knowing are central to Australia’s shared story\, and that reconciliation requires ongoing learning\, listening\, and relationship-building. \nThe conference brings together First Nations leaders\, educators\, and cultural practitioners for keynote presentations\, workshops\, storytelling\, and performances. Presenters include Travis Lovett (Executive Director\, Centre for Truth Telling and Dialogue)\, Jaeden Williams-Briggs (Biik Bundjil)\, Professor Kerry Arabena\, Professor Gary Thomas\, and Lionel Lauch (Living Culture)\, alongside workshops in cultural arts\, storytelling\, dance\, truth-telling\, and connection to Country. Some sessions are practical and creative\, while others provide space for deep listening and reflection. \nThis conference is especially relevant for educators and those working across early learning\, schools\, and community education\, but is open to all who wish to engage meaningfully with First Nations knowledge\, culture\, and perspectives. It offers a valuable opportunity to strengthen understanding\, support truth-telling\, and build relationships grounded in respect and cultural authority. \nSeveral of us from NRG will be attending on Friday. If you are interested in attending as part of our group\, please get in touch with NRG. To book independently\, please use the official conference booking link below.
URL:https://www.nrg.org.au/event/bundjil-nest-conference-2026/
LOCATION:Civic Reserve and Balnarring Preschool\, 2 Civic Court\, Balnarring\, Victoria\, 3926\, Australia
CATEGORIES:Public Events,Talks,Workshop
ATTACH;FMTTYPE=image/jpeg:https://www.nrg.org.au/wp-content/uploads/2026/02/HHIP-scaled-1.jpeg
ORGANIZER;CN="Bundjil Nest Project":MAILTO:balnarring.kin@kindergarten.vic.gov.au
END:VEVENT
BEGIN:VEVENT
DTSTART;TZID=Australia/Melbourne:20240831T180000
DTEND;TZID=Australia/Melbourne:20240831T200000
DTSTAMP:20260419T233144
CREATED:20240826T005419Z
LAST-MODIFIED:20240826T010058Z
UID:2900-1725127200-1725134400@www.nrg.org.au
SUMMARY:Collecting and Investing in Indigenous Art
DESCRIPTION:After a winter break\, renovations\, and the challenges of COVID\, Pardalote is roaring back to life! This August\, Pardalote Collections is excited to host two events as part of the Eltham Town Arts and Culture Festival. \nJoin us for an insightful session on Collecting and Investing in Indigenous Art as they launch a new initiative: a rotating Indigenous art collection. Enjoy wood-fired pizza and wine in a cozy setting. \nThe event will be held in the private front room\, accessible via Commercial Place. \nBookings are essential\, and spots are limited to 25 attendees. Don’t miss out! \nRSVP by text to Cathy 0409 088 772 or drop by Pardalote\, 4 Midway Arcade\, Eltham 3095. Open WED – SAT 10am-4pm.
URL:https://www.nrg.org.au/event/collecting-and-investing-in-indigenous-art/
LOCATION:The Missing Gorilla\, 1/70 Commercial Place\, Eltham\, Victoria\, 3095\, Australia
CATEGORIES:Talks
ATTACH;FMTTYPE=image/webp:https://www.nrg.org.au/wp-content/uploads/2024/08/C.hocolatier-at-Pardalote-Collections.webp
ORGANIZER;CN="Pardalote Collections":MAILTO:info@streamlinepublishing.com.au
END:VEVENT
END:VCALENDAR