BEGIN:VCALENDAR
VERSION:2.0
PRODID:-//Nillumbik Reconciliation Group - ECPv6.15.20//NONSGML v1.0//EN
CALSCALE:GREGORIAN
METHOD:PUBLISH
X-WR-CALNAME:Nillumbik Reconciliation Group
X-ORIGINAL-URL:https://www.nrg.org.au
X-WR-CALDESC:Events for Nillumbik Reconciliation Group
REFRESH-INTERVAL;VALUE=DURATION:PT1H
X-Robots-Tag:noindex
X-PUBLISHED-TTL:PT1H
BEGIN:VTIMEZONE
TZID:Australia/Melbourne
BEGIN:STANDARD
TZOFFSETFROM:+1100
TZOFFSETTO:+1000
TZNAME:AEST
DTSTART:20220402T160000
END:STANDARD
BEGIN:DAYLIGHT
TZOFFSETFROM:+1000
TZOFFSETTO:+1100
TZNAME:AEDT
DTSTART:20221001T160000
END:DAYLIGHT
BEGIN:STANDARD
TZOFFSETFROM:+1100
TZOFFSETTO:+1000
TZNAME:AEST
DTSTART:20230401T160000
END:STANDARD
BEGIN:DAYLIGHT
TZOFFSETFROM:+1000
TZOFFSETTO:+1100
TZNAME:AEDT
DTSTART:20230930T160000
END:DAYLIGHT
BEGIN:STANDARD
TZOFFSETFROM:+1100
TZOFFSETTO:+1000
TZNAME:AEST
DTSTART:20240406T160000
END:STANDARD
BEGIN:DAYLIGHT
TZOFFSETFROM:+1000
TZOFFSETTO:+1100
TZNAME:AEDT
DTSTART:20241005T160000
END:DAYLIGHT
BEGIN:STANDARD
TZOFFSETFROM:+1100
TZOFFSETTO:+1000
TZNAME:AEST
DTSTART:20250405T160000
END:STANDARD
BEGIN:DAYLIGHT
TZOFFSETFROM:+1000
TZOFFSETTO:+1100
TZNAME:AEDT
DTSTART:20251004T160000
END:DAYLIGHT
END:VTIMEZONE
BEGIN:VEVENT
DTSTART;TZID=Australia/Melbourne:20240411T183000
DTEND;TZID=Australia/Melbourne:20240411T193000
DTSTAMP:20260420T210642
CREATED:20240412T043547Z
LAST-MODIFIED:20240412T043547Z
UID:2002-1712860200-1712863800@www.nrg.org.au
SUMMARY:Book Launch: Reflections on the Voice
DESCRIPTION:Join us to celebrate the launch of Andrew Gunstone’s Reflections on the Voice: During and After the Campaign. \nThis book is the first comprehensive exploration of the Referendum and its lasting impact on Australia’s ongoing national reconciliation journey. \nProfessor Gunstone’s book\, written for a general audience\, explores several key areas\, including: reconciliation\, racism\, Indigenous rights\, ‘equality’\, truth-telling\, community engagements\, international agreements\, such as UNDRIP\, allyship\, and recommitting to Voice\, Treaty\, and Truth. \nProfessor Gunstone is a leading authority on reconciliation. He is Associate Deputy Vice-Chancellor Reconciliation at Federation University\, where he established and leads the National Centre for Reconciliation\, Truth\, and Justice. He is also the Co-Chair of Reconciliation Victoria. \nEminent Indigenous leader\, Dr Jackie Huggins AM FAHA\, who wrote the Foreword\, will launch the book\, and will join Professor Gunstone on a panel to discuss reconciliation in a post-Referendum environment. The panel will be moderated by Uncle Charles Pakana\, Founder of Victorian Aboriginal News. \nThe event is free\, but bookings are required.
URL:https://www.nrg.org.au/event/book-launch-reflections-on-the-voice/
LOCATION:Readings Carlton\, 309 Lygon Street\, Carlton\, Victoria\, 3053\, Australia
ATTACH;FMTTYPE=image/jpeg:https://www.nrg.org.au/wp-content/uploads/2024/03/1710453477521.jpg
END:VEVENT
BEGIN:VEVENT
DTSTART;TZID=Australia/Melbourne:20231213T100000
DTEND;TZID=Australia/Melbourne:20240722T180000
DTSTAMP:20260420T210642
CREATED:20240622T024637Z
LAST-MODIFIED:20240709T233655Z
UID:2322-1702461600-1721671200@www.nrg.org.au
SUMMARY:Beruk: the life and legacy of William Barak
DESCRIPTION:Come explore and connect with an exhibition celebrating the life and legacy of William Barak. \nTo the colonial world he was William Barak\, to his people he is Beruk. Wurundjeri Woi-wurrung artist and the last Ngurungaeta\, activist\, leader\, trailblazer – Beruk remains a source of knowledge for Wurundjeri people through his works and he continues to influence generations worldwide. \nThe beruk exhibition\, curated by descendants of Beruk\, for the first time welcomes home two artworks\, Corroborree (Women in Possum Skin Cloaks) and a Parrying Shield back to Wurundjeri Country and community where they belong. \nHonouring Beruk’s cultural legacy\, this exhibition explores objects\, paintings and portraits Beruk and other residents of the Coranderrk Aboriginal Reserve created during the post-colonial era of the mission station. \nNo bookings required. \nAbout the gallery\nThis exhibition was created on behalf of Wurundjeri people and the community by the Wurundjeri Woi-wurrung Cultural Heritage Aboriginal Corporation in collaboration with the Victorian Indigenous Research Centre and a Wurundjeri working group. \nberuk is the first exhibition in the Library’s newly established gallery dedicated to presenting Victoria’s Indigenous voices. Led by the Victorian Indigenous Research Centre\, the gallery will host a changing program of exhibitions and events that celebrate the stories of Indigenous Victorians and provide meaningful experiences for visitors to connect with material held in the Victorian State Collection. \nExhibitions and programming will be presented by State Library Victoria through the Victorian Indigenous Research Centre with the support of the Hansen Little Foundation. \nState Library Victoria acknowledges the generosity of Porter’s Paints in supplying the custom colour for this gallery.
URL:https://www.nrg.org.au/event/beruk-the-life-and-legacy-of-william-barak/
LOCATION:State Library Victoria\, 328 Swanston Street\, Melbourne\, Victoria\, 3000\, Australia
CATEGORIES:Exhibitions
ATTACH;FMTTYPE=image/png:https://www.nrg.org.au/wp-content/uploads/2024/06/beruk-WO-Feature-Image-848x477-1.png
ORGANIZER;CN="Victorian Indigenous Research Centre":MAILTO:virc@slv.vic.gov.au
END:VEVENT
END:VCALENDAR